BEGIN:VCALENDAR
VERSION:2.0
PRODID:-//The Italian Cultural Foundation - ECPv6.15.18//NONSGML v1.0//EN
CALSCALE:GREGORIAN
METHOD:PUBLISH
X-WR-CALNAME:The Italian Cultural Foundation
X-ORIGINAL-URL:https://casa-belvedere.org
X-WR-CALDESC:Events for The Italian Cultural Foundation
REFRESH-INTERVAL;VALUE=DURATION:PT1H
X-Robots-Tag:noindex
X-PUBLISHED-TTL:PT1H
BEGIN:VTIMEZONE
TZID:America/New_York
BEGIN:DAYLIGHT
TZOFFSETFROM:-0500
TZOFFSETTO:-0400
TZNAME:EDT
DTSTART:20220313T070000
END:DAYLIGHT
BEGIN:STANDARD
TZOFFSETFROM:-0400
TZOFFSETTO:-0500
TZNAME:EST
DTSTART:20221106T060000
END:STANDARD
BEGIN:DAYLIGHT
TZOFFSETFROM:-0500
TZOFFSETTO:-0400
TZNAME:EDT
DTSTART:20230312T070000
END:DAYLIGHT
BEGIN:STANDARD
TZOFFSETFROM:-0400
TZOFFSETTO:-0500
TZNAME:EST
DTSTART:20231105T060000
END:STANDARD
BEGIN:DAYLIGHT
TZOFFSETFROM:-0500
TZOFFSETTO:-0400
TZNAME:EDT
DTSTART:20240310T070000
END:DAYLIGHT
BEGIN:STANDARD
TZOFFSETFROM:-0400
TZOFFSETTO:-0500
TZNAME:EST
DTSTART:20241103T060000
END:STANDARD
END:VTIMEZONE
BEGIN:VEVENT
DTSTART;TZID=America/New_York:20230831T180000
DTEND;TZID=America/New_York:20230831T190000
DTSTAMP:20260420T062452
CREATED:20231218T211303Z
LAST-MODIFIED:20231218T211453Z
UID:10000148-1693504800-1693508400@casa-belvedere.org
SUMMARY:PILATES
DESCRIPTION:FITNESS AT CASA BELVEDERE \nJoin Meaghan Colleen aka “@Muscle_meg” for a full body workout. Pilates works to tone\, stretch and elongate the muscles through focused alignment\, coordinated breathing\, and stability. Pilates is a low-impact class for all levels. \n\nMat class: Personal mat recommended. No equipment required. \nPrior registration is strongly encouraged. Although drop-ins are welcome to pay at the door\, the class may be canceled if we do not have enough registered participants. \n\n 
URL:https://casa-belvedere.org/event/pilates-3/2023-08-31/
LOCATION:Casa Belvedere\, 79 Howard Avenue\, Staten Island\, NY\, 10301\, United States
CATEGORIES:Cultural Events
ORGANIZER;CN="The Italian Cultural Foundation at Casa Belvedere":MAILTO:info@casa-belvedere.org
END:VEVENT
END:VCALENDAR