BEGIN:VCALENDAR
VERSION:2.0
PRODID:-//The Italian Cultural Foundation - ECPv6.15.18//NONSGML v1.0//EN
CALSCALE:GREGORIAN
METHOD:PUBLISH
X-WR-CALNAME:The Italian Cultural Foundation
X-ORIGINAL-URL:https://casa-belvedere.org
X-WR-CALDESC:Events for The Italian Cultural Foundation
REFRESH-INTERVAL;VALUE=DURATION:PT1H
X-Robots-Tag:noindex
X-PUBLISHED-TTL:PT1H
BEGIN:VTIMEZONE
TZID:America/New_York
BEGIN:DAYLIGHT
TZOFFSETFROM:-0500
TZOFFSETTO:-0400
TZNAME:EDT
DTSTART:20250309T070000
END:DAYLIGHT
BEGIN:STANDARD
TZOFFSETFROM:-0400
TZOFFSETTO:-0500
TZNAME:EST
DTSTART:20251102T060000
END:STANDARD
BEGIN:DAYLIGHT
TZOFFSETFROM:-0500
TZOFFSETTO:-0400
TZNAME:EDT
DTSTART:20260308T070000
END:DAYLIGHT
BEGIN:STANDARD
TZOFFSETFROM:-0400
TZOFFSETTO:-0500
TZNAME:EST
DTSTART:20261101T060000
END:STANDARD
BEGIN:DAYLIGHT
TZOFFSETFROM:-0500
TZOFFSETTO:-0400
TZNAME:EDT
DTSTART:20270314T070000
END:DAYLIGHT
BEGIN:STANDARD
TZOFFSETFROM:-0400
TZOFFSETTO:-0500
TZNAME:EST
DTSTART:20271107T060000
END:STANDARD
END:VTIMEZONE
BEGIN:VEVENT
DTSTART;TZID=America/New_York:20260311T190000
DTEND;TZID=America/New_York:20260311T203000
DTSTAMP:20260420T222517
CREATED:20260209T211826Z
LAST-MODIFIED:20260209T211826Z
UID:10001331-1773255600-1773261000@casa-belvedere.org
SUMMARY:Italian Women Who Shaped Culture: The Stories We Didn’t Learn.
DESCRIPTION:Italian Women Who Shaped Culture: The Stories We Didn’t Learn.\nA special program featuring filmmaker Taylor Taglianetti\nWednesday\, March 11 from 7 to 8:30 pm in The Galleria\nFree for Members\, $10 Non-Members\n\nJoin us in celebrating Women’s History Month and International Women’s Day in Italy with a special program honoring the women who carry culture forward across generations.\n\nWe are proud to welcome filmmaker\, cultural storyteller\, and President/Founder of The National Organization of Italian Americans in Film & Television Taylor Taglianetti for a screening and conversation around her award-winning documentary What’s Next?. Through her work\, Taylor represents a modern expression of the Italian matriarchal tradition — preserving memory\, identity\, and values through film. The evening will explore themes of resilience\, purpose\, legacy\, and connection\, offering a powerful reflection on how women continue to shape and sustain cultural heritage today.\n\nRegister Here!
URL:https://casa-belvedere.org/event/italian-women-who-shaped-culture-the-stories-we-didnt-learn/
LOCATION:Casa Belvedere\, 79 Howard Avenue\, Staten Island\, NY\, 10301\, United States
ORGANIZER;CN="The Italian Cultural Foundation at Casa Belvedere":MAILTO:info@casa-belvedere.org
END:VEVENT
END:VCALENDAR